BEGIN:VCALENDAR
VERSION:2.0
PRODID:-//ZContent.net//ZapCalLib 1.0//EN
CALSCALE:GREGORIAN
METHOD:PUBLISH
BEGIN:VEVENT
SUMMARY:Die Angst vor den Feministinnen | Vortrag
DTSTART:20251009T183000
DTEND:20251009T200000
UID:2026-04-21-22-26-35-0-@calendar.boell.de
DTSTAMP:20260421T202635
DESCRIPTION:▶ Siehe Veranstaltungsbeschreibung – Leipzig – Landesstif
 tung Sachsen (Weiterdenken)
END:VEVENT
END:VCALENDAR
