BEGIN:VCALENDAR
VERSION:2.0
PRODID:-//ZContent.net//ZapCalLib 1.0//EN
CALSCALE:GREGORIAN
METHOD:PUBLISH
BEGIN:VEVENT
SUMMARY:Heute ist ein guter Tag für eine Re-LOVE-ution | Feministische Sta
 dtrallye für Frauen*
DTSTART:20251128T170000
DTEND:20251129T170000
UID:2026-04-24-08-25-52-0-@calendar.boell.de
DTSTAMP:20260424T062552
DESCRIPTION:▶ Siehe Veranstaltungsbeschreibung – Berlin – Landesstift
 ung Berlin (Bildungswerk)
END:VEVENT
END:VCALENDAR
