BEGIN:VCALENDAR
VERSION:2.0
PRODID:-//ZContent.net//ZapCalLib 1.0//EN
CALSCALE:GREGORIAN
METHOD:PUBLISH
BEGIN:VEVENT
SUMMARY:Souvenirs of War | Dokumentarfilm 
DTSTART:20251207T193000
DTEND:20251207T210000
UID:2026-04-24-02-47-42-0-@calendar.boell.de
DTSTAMP:20260424T004742
DESCRIPTION:Karlsruhe – Heinrich Böll Stiftung Baden-Württemberg
END:VEVENT
END:VCALENDAR
