BEGIN:VCALENDAR
VERSION:2.0
PRODID:-//ZContent.net//ZapCalLib 1.0//EN
CALSCALE:GREGORIAN
METHOD:PUBLISH
BEGIN:VEVENT
SUMMARY:Gegen Rassismus – Ungekannte Perspektiven. Workshop für Multipli
 kator*innen | Im Rahmen der Ausstellung "Blutiger Boden. Die Tatorte des N
 SU"
DTSTART:20251122T130000
DTEND:20251122T150000
UID:2026-04-19-19-17-57-0-@calendar.boell.de
DTSTAMP:20260419T171757
DESCRIPTION:▶ Siehe Veranstaltungsbeschreibung – Hamburg – Landesstif
 tung Hamburg
END:VEVENT
END:VCALENDAR
