BEGIN:VCALENDAR
VERSION:2.0
PRODID:-//ZContent.net//ZapCalLib 1.0//EN
CALSCALE:GREGORIAN
METHOD:PUBLISH
BEGIN:VEVENT
SUMMARY:Deep Work
DTSTART:20260923T183000
DTEND:20260923T200000
UID:2026-04-21-10-34-40-0-@calendar.boell.de
DTSTAMP:20260421T083440
DESCRIPTION:▶ Online-Veranstaltung – GreenCampus
END:VEVENT
END:VCALENDAR
