BEGIN:VCALENDAR
VERSION:2.0
PRODID:-//ZContent.net//ZapCalLib 1.0//EN
CALSCALE:GREGORIAN
METHOD:PUBLISH
BEGIN:VEVENT
SUMMARY:Deep Work
DTSTART:20260930T183000
DTEND:20260930T200000
UID:2026-04-22-03-25-45-0-@calendar.boell.de
DTSTAMP:20260422T012545
DESCRIPTION:▶ Online-Veranstaltung – GreenCampus
END:VEVENT
END:VCALENDAR
