BEGIN:VCALENDAR
VERSION:2.0
PRODID:-//ZContent.net//ZapCalLib 1.0//EN
CALSCALE:GREGORIAN
METHOD:PUBLISH
BEGIN:VEVENT
SUMMARY:Archiv der Straße | Auftakt Block2# „Die Reisenden“ mit Peter 
 Reinhardt und Mano Guttenberger
DTSTART:20251130T110000
DTEND:20251130T130000
UID:2026-04-24-02-47-41-0-@calendar.boell.de
DTSTAMP:20260424T004741
DESCRIPTION:Stuttgart – Heinrich Böll Stiftung Baden-Württemberg
END:VEVENT
END:VCALENDAR
