BEGIN:VCALENDAR
VERSION:2.0
PRODID:-//ZContent.net//ZapCalLib 1.0//EN
CALSCALE:GREGORIAN
METHOD:PUBLISH
BEGIN:VEVENT
SUMMARY:Warum das Abkommen von Paris wichtig ist | Teil 1 | 10 Jahre Parise
 r Klimaabkommen – und jetzt? Eine Suche in vier Teilen
DTSTART:20260205T181500
DTEND:20260205T213000
UID:2026-04-23-08-18-29-0-@calendar.boell.de
DTSTAMP:20260423T061829
DESCRIPTION:Freiburg – Heinrich Böll Stiftung Baden-Württemberg
END:VEVENT
END:VCALENDAR
