BEGIN:VCALENDAR
VERSION:2.0
PRODID:-//ZContent.net//ZapCalLib 1.0//EN
CALSCALE:GREGORIAN
METHOD:PUBLISH
BEGIN:VEVENT
SUMMARY:Unsere Grüne Woche: Mooraktionstag - „Mission to Marsh“ | Moor
 e: Die stillen Helden im Kampf gegen die Klimakrise
DTSTART:20260113T190000
DTEND:20260113T213000
UID:2026-04-26-04-41-43-0-@calendar.boell.de
DTSTAMP:20260426T024143
DESCRIPTION:Heinrich-Böll-Stiftung - Bundesstiftung Berlin – Berlin – 
 Heinrich-Böll-Stiftung - Bundesstiftung Berlin
END:VEVENT
END:VCALENDAR
