BEGIN:VCALENDAR
VERSION:2.0
PRODID:-//ZContent.net//ZapCalLib 1.0//EN
CALSCALE:GREGORIAN
METHOD:PUBLISH
BEGIN:VEVENT
SUMMARY:Meermach Camp | mit Ocean Youngsters
DTSTART:20260507T120000
DTEND:20260509T150000
UID:2026-04-21-11-35-21-0-@calendar.boell.de
DTSTAMP:20260421T093521
DESCRIPTION:▶ Siehe Veranstaltungsbeschreibung – Landesstiftung Schlesw
 ig-Holstein
END:VEVENT
END:VCALENDAR
