BEGIN:VCALENDAR
VERSION:2.0
PRODID:-//ZContent.net//ZapCalLib 1.0//EN
CALSCALE:GREGORIAN
METHOD:PUBLISH
BEGIN:VEVENT
SUMMARY:Unsere Grüne Woche: Der kritische Agrarbericht 2026 | Schwerpunkt:
   Wandel & Widerstand
DTSTART:20260115T180000
DTEND:20260115T210000
UID:2026-04-23-17-10-18-0-@calendar.boell.de
DTSTAMP:20260423T151018
DESCRIPTION:Heinrich-Böll-Stiftung - Bundesstiftung Berlin – Berlin – 
 Heinrich-Böll-Stiftung - Bundesstiftung Berlin
END:VEVENT
END:VCALENDAR
