BEGIN:VCALENDAR
VERSION:2.0
PRODID:-//ZContent.net//ZapCalLib 1.0//EN
CALSCALE:GREGORIAN
METHOD:PUBLISH
BEGIN:VEVENT
SUMMARY:Die Exponentialgesellschaft |  Von der Krisenspirale zur Stabilisie
 rung 
DTSTART:20260211T180000
DTEND:20260211T193000
UID:2026-04-24-09-41-58-0-@calendar.boell.de
DTSTAMP:20260424T074158
DESCRIPTION:Heinrich-Böll-Stiftung - Bundesstiftung Berlin – Berlin – 
 Heinrich-Böll-Stiftung - Bundesstiftung Berlin
END:VEVENT
END:VCALENDAR
