BEGIN:VCALENDAR
VERSION:2.0
PRODID:-//ZContent.net//ZapCalLib 1.0//EN
CALSCALE:GREGORIAN
METHOD:PUBLISH
BEGIN:VEVENT
SUMMARY:Klare Worte, starke Wirkung: Professionelle Pressearbeit | Zweiteil
 iger Workshop
DTSTART:20260205T150000
DTEND:20260205T183000
UID:2026-04-20-21-42-07-0-@calendar.boell.de
DTSTAMP:20260420T194207
DESCRIPTION:▶ Online-Veranstaltung – Heinrich Böll Stiftung Baden-Wür
 ttemberg
END:VEVENT
END:VCALENDAR
