BEGIN:VCALENDAR
VERSION:2.0
PRODID:-//ZContent.net//ZapCalLib 1.0//EN
CALSCALE:GREGORIAN
METHOD:PUBLISH
BEGIN:VEVENT
SUMMARY:Wie das Bündnis 90 zu den Grünen kam – und was das mit unserer 
 Gegenwart zu tun hat
DTSTART:20260211T180000
DTEND:20260211T193000
UID:2026-04-24-09-42-02-0-@calendar.boell.de
DTSTAMP:20260424T074202
DESCRIPTION:Heinrich-Böll-Stiftung - Bundesstiftung Berlin – Berlin – 
 Heinrich-Böll-Stiftung - Bundesstiftung Berlin
END:VEVENT
END:VCALENDAR
