BEGIN:VCALENDAR
VERSION:2.0
PRODID:-//ZContent.net//ZapCalLib 1.0//EN
CALSCALE:GREGORIAN
METHOD:PUBLISH
BEGIN:VEVENT
SUMMARY:Überzeugend argumentieren. Wie ich mich in polarisierten Diskussio
 nen behaupten kann | Dreiteiliger Workshop
DTSTART:20260323T150000
DTEND:20260323T180000
UID:2026-04-23-22-31-43-0-@calendar.boell.de
DTSTAMP:20260423T203143
DESCRIPTION:▶ Online-Veranstaltung – Heinrich Böll Stiftung Baden-Wür
 ttemberg
END:VEVENT
END:VCALENDAR
