BEGIN:VCALENDAR
VERSION:2.0
PRODID:-//ZContent.net//ZapCalLib 1.0//EN
CALSCALE:GREGORIAN
METHOD:PUBLISH
BEGIN:VEVENT
SUMMARY:Politische Bildung zu Flucht über das Mittelmeer | Anhand der Grap
 hic Novel „Das Schimmern der See“
DTSTART:20260419T100000
DTEND:20260419T170000
UID:2026-04-22-04-06-40-0-@calendar.boell.de
DTSTAMP:20260422T020640
DESCRIPTION:▶ Siehe Veranstaltungsbeschreibung – Berlin – Landesstift
 ung Berlin (Bildungswerk)
END:VEVENT
END:VCALENDAR
