BEGIN:VCALENDAR
VERSION:2.0
PRODID:-//ZContent.net//ZapCalLib 1.0//EN
CALSCALE:GREGORIAN
METHOD:PUBLISH
BEGIN:VEVENT
SUMMARY:Reden schreiben, Reden halten | Überzeugend formulieren, wirkungsv
 oll sprechen | Dreiteiliger Workshop
DTSTART:20260622T160000
DTEND:20260624T200000
UID:2026-04-25-13-07-06-0-@calendar.boell.de
DTSTAMP:20260425T110706
DESCRIPTION:▶ Online-Veranstaltung – Heinrich Böll Stiftung Baden-Wür
 ttemberg
END:VEVENT
END:VCALENDAR
