BEGIN:VCALENDAR
VERSION:2.0
PRODID:-//ZContent.net//ZapCalLib 1.0//EN
CALSCALE:GREGORIAN
METHOD:PUBLISH
BEGIN:VEVENT
SUMMARY:Ocean Family Treffen | mit Ocean Summit
DTSTART:20260513T183000
DTEND:20260513T203000
UID:2026-04-25-13-07-09-0-@calendar.boell.de
DTSTAMP:20260425T110709
DESCRIPTION:▶ Online-Veranstaltung – Kiel – Landesstiftung Schleswig-
 Holstein
END:VEVENT
END:VCALENDAR
