BEGIN:VCALENDAR
VERSION:2.0
PRODID:-//ZContent.net//ZapCalLib 1.0//EN
CALSCALE:GREGORIAN
METHOD:PUBLISH
BEGIN:VEVENT
SUMMARY:Comic-Ausstellung WIE GEHT ES DIR? Zeichner*innen gegen Antisemitis
 mus, Hass und Rassismus | Eröffnung und Ausstellung bis Ende April in Feu
 erbach
DTSTART:20260422T090000
DTEND:20260430T140000
UID:2026-04-21-01-12-51-0-@calendar.boell.de
DTSTAMP:20260420T231251
DESCRIPTION:Stuttgart – Heinrich Böll Stiftung Baden-Württemberg
END:VEVENT
END:VCALENDAR
