BEGIN:VCALENDAR
VERSION:2.0
PRODID:-//ZContent.net//ZapCalLib 1.0//EN
CALSCALE:GREGORIAN
METHOD:PUBLISH
BEGIN:VEVENT
SUMMARY:Klassismus erkennen und entgegentreten
DTSTART:20260512T160000
DTEND:20260512T180000
UID:2026-04-22-06-32-48-0-@calendar.boell.de
DTSTAMP:20260422T043248
DESCRIPTION:▶ Online-Veranstaltung – GreenCampus
END:VEVENT
END:VCALENDAR
