BEGIN:VCALENDAR
VERSION:2.0
PRODID:-//ZContent.net//ZapCalLib 1.0//EN
CALSCALE:GREGORIAN
METHOD:PUBLISH
BEGIN:VEVENT
SUMMARY:Lesekreis: Antifaschismus | Antifaschistische Ideen aus Theorie und
  Praxis
DTSTART:20260429T190000
DTEND:20260520T213000
UID:2026-04-23-23-44-13-0-@calendar.boell.de
DTSTAMP:20260423T214413
DESCRIPTION:▶ Siehe Veranstaltungsbeschreibung – Berlin – Landesstift
 ung Berlin (Bildungswerk)
END:VEVENT
END:VCALENDAR
