BEGIN:VCALENDAR
VERSION:2.0
PRODID:-//ZContent.net//ZapCalLib 1.0//EN
CALSCALE:GREGORIAN
METHOD:PUBLISH
BEGIN:VEVENT
SUMMARY:Klare Kante! | Argumentations- und Haltungstraining für den Umgang
  mit Rechtspopulismus
DTSTART:20260605T170000
DTEND:20260606T173000
UID:2026-04-24-14-59-37-0-@calendar.boell.de
DTSTAMP:20260424T125937
DESCRIPTION:▶ Siehe Veranstaltungsbeschreibung – Berlin – Landesstift
 ung Berlin (Bildungswerk)
END:VEVENT
END:VCALENDAR
