BEGIN:VCALENDAR
VERSION:2.0
PRODID:-//ZContent.net//ZapCalLib 1.0//EN
CALSCALE:GREGORIAN
METHOD:PUBLISH
BEGIN:VEVENT
SUMMARY:Nicht neutral!  | Zum Mythos des Neutralitätsgebots für Vereine
DTSTART:20260622T180000
DTEND:20260622T193000
UID:2026-04-22-01-39-05-0-@calendar.boell.de
DTSTAMP:20260421T233905
DESCRIPTION:▶ Siehe Veranstaltungsbeschreibung – Petra-Kelly-Stiftung
END:VEVENT
END:VCALENDAR
