BEGIN:VCALENDAR
VERSION:2.0
PRODID:-//ZContent.net//ZapCalLib 1.0//EN
CALSCALE:GREGORIAN
METHOD:PUBLISH
BEGIN:VEVENT
SUMMARY:Ein Aquarium voller Schlüssel | Charkiw - Metropole im Osten der U
 kraine
DTSTART:20260508T190000
DTEND:20260508T203000
UID:2026-04-21-08-43-23-0-@calendar.boell.de
DTSTAMP:20260421T064323
DESCRIPTION:Heinrich Böll Stiftung Baden-Württemberg
END:VEVENT
END:VCALENDAR
