BEGIN:VCALENDAR
VERSION:2.0
PRODID:-//ZContent.net//ZapCalLib 1.0//EN
CALSCALE:GREGORIAN
METHOD:PUBLISH
BEGIN:VEVENT
SUMMARY:Selbstbauworkshop Photovoltaik | Beteilige dich an der Energiewende
  mit deiner eigenen Solaranlage
DTSTART:20260424T160000
DTEND:20260425T160000
UID:2026-04-21-11-35-13-0-@calendar.boell.de
DTSTAMP:20260421T093513
DESCRIPTION:Ilmenau – 
END:VEVENT
END:VCALENDAR
