BEGIN:VCALENDAR
VERSION:2.0
PRODID:-//ZContent.net//ZapCalLib 1.0//EN
CALSCALE:GREGORIAN
METHOD:PUBLISH
BEGIN:VEVENT
SUMMARY:KEIN LAND FÜR NIEMAND
DTSTART:20260417T180000
DTEND:20260417T200000
UID:2026-04-22-22-12-19-0-@calendar.boell.de
DTSTAMP:20260422T201219
DESCRIPTION:Heidelberg – Heinrich Böll Stiftung Baden-Württemberg
END:VEVENT
END:VCALENDAR
