BEGIN:VCALENDAR
VERSION:2.0
PRODID:-//ZContent.net//ZapCalLib 1.0//EN
CALSCALE:GREGORIAN
METHOD:PUBLISH
BEGIN:VEVENT
SUMMARY:AI, Memory and Migration | Whose story survives the algorithm?
DTSTART:20260423T180000
DTEND:20260423T210000
UID:2026-04-21-19-13-56-0-@calendar.boell.de
DTSTAMP:20260421T171356
DESCRIPTION:â–¶ Siehe Veranstaltungsbeschreibung â€“ Berlin â€“ Heinrich-BÃ
 ¶ll-Stiftung - Bundesstiftung Berlin
END:VEVENT
END:VCALENDAR
