BEGIN:VCALENDAR
VERSION:2.0
PRODID:-//ZContent.net//ZapCalLib 1.0//EN
CALSCALE:GREGORIAN
METHOD:PUBLISH
BEGIN:VEVENT
SUMMARY:KI-Kompass-Workshop: KI und Nachhaltigkeit | Zweitägige Train-the-
 Trainer-Schulung für studentische Multiplikator*innen in Göttingen
DTSTART:20260508T100000
DTEND:20260508T100000
UID:2026-04-22-23-14-03-0-@calendar.boell.de
DTSTAMP:20260422T211403
DESCRIPTION:▶ Siehe Veranstaltungsbeschreibung – Göttingen – 
END:VEVENT
END:VCALENDAR
