BEGIN:VCALENDAR
VERSION:2.0
PRODID:-//ZContent.net//ZapCalLib 1.0//EN
CALSCALE:GREGORIAN
METHOD:PUBLISH
BEGIN:VEVENT
SUMMARY:10 Jahre zivile Flotte | Eine Fotoausstellung zur Seenotrettung im 
 Mittelmeer
DTSTART:20260504T180000
DTEND:20260715T180000
UID:2026-04-22-22-12-28-0-@calendar.boell.de
DTSTAMP:20260422T201228
DESCRIPTION:Stuttgart – Heinrich Böll Stiftung Baden-Württemberg
END:VEVENT
END:VCALENDAR
