BEGIN:VCALENDAR
VERSION:2.0
PRODID:-//ZContent.net//ZapCalLib 1.0//EN
CALSCALE:GREGORIAN
METHOD:PUBLISH
BEGIN:VEVENT
SUMMARY:Wem gehört die Stadt? Feministische Perspektiven auf Planung und R
 echt | Gender im Recht: Wo stehen wir heute?
DTSTART:20260504T181500
DTEND:20260504T194500
UID:2026-04-26-06-13-10-0-@calendar.boell.de
DTSTAMP:20260426T041310
DESCRIPTION:▶ Siehe Veranstaltungsbeschreibung – Halle (Saale) – Land
 esstiftung Sachsen-Anhalt
END:VEVENT
END:VCALENDAR
