BEGIN:VCALENDAR
VERSION:2.0
PRODID:-//ZContent.net//ZapCalLib 1.0//EN
CALSCALE:GREGORIAN
METHOD:PUBLISH
BEGIN:VEVENT
SUMMARY:Profile strategisch optimieren. Instagram als Visitenkarte.
DTSTART:20260511T170000
DTEND:20260511T200000
UID:2026-04-22-00-06-52-0-@calendar.boell.de
DTSTAMP:20260421T220652
DESCRIPTION:▶ Siehe Veranstaltungsbeschreibung – Heinrich Böll Stiftun
 g Baden-Württemberg
END:VEVENT
END:VCALENDAR
