BEGIN:VCALENDAR
VERSION:2.0
PRODID:-//ZContent.net//ZapCalLib 1.0//EN
CALSCALE:GREGORIAN
METHOD:PUBLISH
BEGIN:VEVENT
SUMMARY:â€žDie MÃ¼hlsteins. Eine jÃ¼disch-bÃ¶hmische Geschichteâ€œ | Jan MÃ
 ¼hlstein, Autor und Sohn einer Ãœberlebenden des KZ Freiberg, ist zu Gast 
 mit seinem kÃ¼rzlich erschienenen Buch
DTSTART:20260520T190000
DTEND:20260520T203000
UID:2026-04-26-06-13-10-0-@calendar.boell.de
DTSTAMP:20260426T041310
DESCRIPTION:â–¶ Siehe Veranstaltungsbeschreibung â€“ Freiberg â€“ Landessti
 ftung Sachsen (Weiterdenken)
END:VEVENT
END:VCALENDAR
