BEGIN:VCALENDAR
VERSION:2.0
PRODID:-//ZContent.net//ZapCalLib 1.0//EN
CALSCALE:GREGORIAN
METHOD:PUBLISH
BEGIN:VEVENT
SUMMARY:Die Spree vor Gericht? - Neue Wege im Naturschutz | mit Christine A
 x, Prof. Dr. Stefan Norra, Joyce-Ann Syhre u.a.
DTSTART:20260622T170000
DTEND:20260622T191500
UID:2026-04-19-21-20-31-0-@calendar.boell.de
DTSTAMP:20260419T192031
DESCRIPTION:▶ Siehe Veranstaltungsbeschreibung – Potsdam – Landesstif
 tung Brandenburg
END:VEVENT
END:VCALENDAR
