BEGIN:VCALENDAR
VERSION:2.0
PRODID:-//ZContent.net//ZapCalLib 1.0//EN
CALSCALE:GREGORIAN
METHOD:PUBLISH
BEGIN:VEVENT
SUMMARY:Iss was?! Alltagsessen und Luxusgut
DTSTART:20261027T180000
DTEND:20261027T193000
UID:2026-04-21-07-46-26-0-@calendar.boell.de
DTSTAMP:20260421T054626
DESCRIPTION:▶ Siehe Veranstaltungsbeschreibung – Rostock – Landesstif
 tung Mecklenburg-Vorpommern
END:VEVENT
END:VCALENDAR
