BEGIN:VCALENDAR
VERSION:2.0
PRODID:-//ZContent.net//ZapCalLib 1.0//EN
CALSCALE:GREGORIAN
METHOD:PUBLISH
BEGIN:VEVENT
SUMMARY:Nicht wegsehen: Antisemitismus verstehen und wirksam handeln | Wiss
 en, Haltung und Praxis zu Antisemitismuskritik
DTSTART:20260527T180000
DTEND:20260527T210000
UID:2026-04-21-07-04-12-0-@calendar.boell.de
DTSTAMP:20260421T050412
DESCRIPTION:▶ Siehe Veranstaltungsbeschreibung – Landesstiftung Nordrhe
 in-Westfalen
END:VEVENT
END:VCALENDAR
