BEGIN:VCALENDAR
VERSION:2.0
PRODID:-//ZContent.net//ZapCalLib 1.0//EN
CALSCALE:GREGORIAN
METHOD:PUBLISH
BEGIN:VEVENT
SUMMARY:Archiv der Straße | Podcastinstallation
DTSTART:20260425T161500
DTEND:20260425T171500
UID:2026-04-26-06-13-10-0-@calendar.boell.de
DTSTAMP:20260426T041310
DESCRIPTION:Stuttgart – Heinrich Böll Stiftung Baden-Württemberg
END:VEVENT
END:VCALENDAR
