BEGIN:VCALENDAR
VERSION:2.0
PRODID:-//ZContent.net//ZapCalLib 1.0//EN
CALSCALE:GREGORIAN
METHOD:PUBLISH
BEGIN:VEVENT
SUMMARY:Tach, Tristesse. Ein Plattenbaumusical  | von und mit Die Andere We
 lt Bühne
DTSTART:20260505T110000
DTEND:20260505T130000
UID:2026-04-25-03-01-04-0-@calendar.boell.de
DTSTAMP:20260425T010104
DESCRIPTION:▶ Siehe Veranstaltungsbeschreibung – Strausberg – Landess
 tiftung Brandenburg
END:VEVENT
END:VCALENDAR
