BEGIN:VCALENDAR
VERSION:2.0
PRODID:-//ZContent.net//ZapCalLib 1.0//EN
CALSCALE:GREGORIAN
METHOD:PUBLISH
BEGIN:VEVENT
SUMMARY:Tach, Tristesse. Ein Plattenbaumusical  | von und mit Die Andere We
 lt Bühne
DTSTART:20260428T190000
DTEND:20260428T210000
UID:2026-04-26-06-13-10-0-@calendar.boell.de
DTSTAMP:20260426T041310
DESCRIPTION:▶ Siehe Veranstaltungsbeschreibung – Strausberg – Landess
 tiftung Brandenburg
END:VEVENT
END:VCALENDAR
