BEGIN:VCALENDAR
VERSION:2.0
PRODID:-//ZContent.net//ZapCalLib 1.0//EN
CALSCALE:GREGORIAN
METHOD:PUBLISH
BEGIN:VEVENT
SUMMARY:Andrea Böhm: Fighting Like a Woman | Die Geschichte der Frauen, di
 e zurückschlagen
DTSTART:20260509T170000
DTEND:20260509T193000
UID:2026-04-24-21-09-46-0-@calendar.boell.de
DTSTAMP:20260424T190946
DESCRIPTION:Berlin – Heinrich-Böll-Stiftung - Bundesstiftung Berlin
END:VEVENT
END:VCALENDAR
