BEGIN:VCALENDAR
VERSION:2.0
PRODID:-//ZContent.net//ZapCalLib 1.0//EN
CALSCALE:GREGORIAN
METHOD:PUBLISH
BEGIN:VEVENT
SUMMARY:Bildungsreise Ungarn 2013 
DTSTART:20130714T210000
DTEND:20130720T070000
UID:2026-04-21-11-34-25-0-@calendar.boell.de
DTSTAMP:20260421T093425
DESCRIPTION:Landesstiftung Sachsen (Weiterdenken)
END:VEVENT
END:VCALENDAR
