BEGIN:VCALENDAR
VERSION:2.0
PRODID:-//ZContent.net//ZapCalLib 1.0//EN
CALSCALE:GREGORIAN
METHOD:PUBLISH
BEGIN:VEVENT
SUMMARY:Geschlechterverhältnisse und Frauenbewegung(en): eine Geschichte d
 er Kämpfe, Wandlung und Aneignung  | Jugendseminar
DTSTART:20121109T170000
DTEND:20121111T150000
UID:2026-04-23-09-19-15-0-@calendar.boell.de
DTSTAMP:20260423T071915
DESCRIPTION:Landesstiftung Berlin (Bildungswerk)
END:VEVENT
END:VCALENDAR
