BEGIN:VCALENDAR
VERSION:2.0
PRODID:-//ZContent.net//ZapCalLib 1.0//EN
CALSCALE:GREGORIAN
METHOD:PUBLISH
BEGIN:VEVENT
SUMMARY:Urban Futures - Fotografie- und Fotomontageworkshop | Veranstaltung
 sreihe Urban FutureS - Stadt im Wandel
DTSTART:20120929T090000
DTEND:20120930T170000
UID:2026-04-26-06-15-32-0-@calendar.boell.de
DTSTAMP:20260426T041532
DESCRIPTION:Externe Veranstaltung
END:VEVENT
END:VCALENDAR
