BEGIN:VCALENDAR
VERSION:2.0
PRODID:-//ZContent.net//ZapCalLib 1.0//EN
CALSCALE:GREGORIAN
METHOD:PUBLISH
BEGIN:VEVENT
SUMMARY:Gender reframed! Geschlechterpolitik, die funktioniert: Akteurinnen
  - Ansprüche - Strategien | veranstaltet von `Friedrich Ebert Stiftung`
DTSTART:20120308T180000
DTEND:20120308T203000
UID:2026-04-26-06-15-33-0-@calendar.boell.de
DTSTAMP:20260426T041533
DESCRIPTION:
END:VEVENT
END:VCALENDAR
