BEGIN:VCALENDAR
VERSION:2.0
PRODID:-//ZContent.net//ZapCalLib 1.0//EN
CALSCALE:GREGORIAN
METHOD:PUBLISH
BEGIN:VEVENT
SUMMARY:Bildungsreise Kiew/Charkov, Ukraine | Ein Angebot der Heinrich Böl
 l Stiftung SAAR
DTSTART:20120428T100000
DTEND:20120506T060000
UID:2026-04-21-11-34-36-0-@calendar.boell.de
DTSTAMP:20260421T093436
DESCRIPTION:Landesstiftung Saar
END:VEVENT
END:VCALENDAR
