BEGIN:VCALENDAR
VERSION:2.0
PRODID:-//ZContent.net//ZapCalLib 1.0//EN
CALSCALE:GREGORIAN
METHOD:PUBLISH
BEGIN:VEVENT
SUMMARY:[Fällt leider aus:] Abgefahren! Radverkehr im Vergleich NRW und NL
  | Fahrrad-Bildungsurlaub
DTSTART:20120812T170000
DTEND:20120817T140000
UID:2026-04-21-11-34-35-0-@calendar.boell.de
DTSTAMP:20260421T093435
DESCRIPTION:Landesstiftung Nordrhein-Westfalen
END:VEVENT
END:VCALENDAR
