BEGIN:VCALENDAR
VERSION:2.0
PRODID:-//ZContent.net//ZapCalLib 1.0//EN
CALSCALE:GREGORIAN
METHOD:PUBLISH
BEGIN:VEVENT
SUMMARY:[Achtung, neues Datum:] „Hält Europa IHR Versprechen?“ | Bildu
 ngsurlaub nach Brüssel
DTSTART:20120923T000000
DTEND:20120928T000000
UID:2026-04-21-10-09-00-0-@calendar.boell.de
DTSTAMP:20260421T080900
DESCRIPTION:Landesstiftung Nordrhein-Westfalen
END:VEVENT
END:VCALENDAR
