BEGIN:VCALENDAR
VERSION:2.0
PRODID:-//ZContent.net//ZapCalLib 1.0//EN
CALSCALE:GREGORIAN
METHOD:PUBLISH
BEGIN:VEVENT
SUMMARY:Wohin geht… oder bleibt die arabische Rebellion?
DTSTART:20120324T110000
DTEND:20120324T180000
UID:2026-04-21-22-26-44-0-@calendar.boell.de
DTSTAMP:20260421T202644
DESCRIPTION:Landesstiftung Berlin (Bildungswerk)
END:VEVENT
END:VCALENDAR
