BEGIN:VCALENDAR
VERSION:2.0
PRODID:-//ZContent.net//ZapCalLib 1.0//EN
CALSCALE:GREGORIAN
METHOD:PUBLISH
BEGIN:VEVENT
SUMMARY:GrenzGänge XVIII | Fahrradbildungsurlaub
DTSTART:20120706T150000
DTEND:20120715T113000
UID:2026-04-21-11-34-23-0-@calendar.boell.de
DTSTAMP:20260421T093423
DESCRIPTION:Landesstiftung Nordrhein-Westfalen
END:VEVENT
END:VCALENDAR
