BEGIN:VCALENDAR
VERSION:2.0
PRODID:-//ZContent.net//ZapCalLib 1.0//EN
CALSCALE:GREGORIAN
METHOD:PUBLISH
BEGIN:VEVENT
SUMMARY:Von der Sonne verwöhnt – Freiburg grüne Stadt der Zukunft? | Di
 e ökologische Stadt der Zukunft
DTSTART:20120702T120000
DTEND:20120707T123000
UID:2026-04-19-15-48-09-0-@calendar.boell.de
DTSTAMP:20260419T134809
DESCRIPTION:Landesstiftung Nordrhein-Westfalen
END:VEVENT
END:VCALENDAR
