BEGIN:VCALENDAR
VERSION:2.0
PRODID:-//ZContent.net//ZapCalLib 1.0//EN
CALSCALE:GREGORIAN
METHOD:PUBLISH
BEGIN:VEVENT
SUMMARY:Quer durch - Mitten drin (ausgebucht) | INDIAN SUMMER auf dem Wildn
 is-Trail im Nationalpark Eifel
DTSTART:20120924T110000
DTEND:20120928T163000
UID:2026-04-21-10-09-00-0-@calendar.boell.de
DTSTAMP:20260421T080900
DESCRIPTION:Landesstiftung Nordrhein-Westfalen
END:VEVENT
END:VCALENDAR
